BEGIN:VCALENDAR
VERSION:2.0
PRODID:-//Mayhew Honey - ECPv6.15.20//NONSGML v1.0//EN
CALSCALE:GREGORIAN
METHOD:PUBLISH
X-WR-CALNAME:Mayhew Honey
X-ORIGINAL-URL:https://mayhewhoney.com
X-WR-CALDESC:Events for Mayhew Honey
REFRESH-INTERVAL;VALUE=DURATION:PT1H
X-Robots-Tag:noindex
X-PUBLISHED-TTL:PT1H
BEGIN:VTIMEZONE
TZID:America/Chicago
BEGIN:DAYLIGHT
TZOFFSETFROM:-0600
TZOFFSETTO:-0500
TZNAME:CDT
DTSTART:20250309T080000
END:DAYLIGHT
BEGIN:STANDARD
TZOFFSETFROM:-0500
TZOFFSETTO:-0600
TZNAME:CST
DTSTART:20251102T070000
END:STANDARD
BEGIN:DAYLIGHT
TZOFFSETFROM:-0600
TZOFFSETTO:-0500
TZNAME:CDT
DTSTART:20260308T080000
END:DAYLIGHT
BEGIN:STANDARD
TZOFFSETFROM:-0500
TZOFFSETTO:-0600
TZNAME:CST
DTSTART:20261101T070000
END:STANDARD
BEGIN:DAYLIGHT
TZOFFSETFROM:-0600
TZOFFSETTO:-0500
TZNAME:CDT
DTSTART:20270314T080000
END:DAYLIGHT
BEGIN:STANDARD
TZOFFSETFROM:-0500
TZOFFSETTO:-0600
TZNAME:CST
DTSTART:20271107T070000
END:STANDARD
END:VTIMEZONE
BEGIN:VEVENT
DTSTART;TZID=America/Chicago:20260725T080000
DTEND;TZID=America/Chicago:20260725T120000
DTSTAMP:20260423T135459
CREATED:20260325T150302Z
LAST-MODIFIED:20260325T150304Z
UID:5316-1784966400-1784980800@mayhewhoney.com
SUMMARY:Vine Street Market 7/25/2026
DESCRIPTION:Visit us at Vine Street Market in O’Fallon\, IL on 7/25/2026.   Fresh\, Local Honey and beeswax products
URL:https://mayhewhoney.com/event/vine-street-market-7-25-2026
LOCATION:IL
CATEGORIES:Farmer's Markets,O'Fallon Vine Street Market
END:VEVENT
END:VCALENDAR