BEGIN:VCALENDAR
VERSION:2.0
PRODID:-//Mayhew Honey - ECPv6.15.20//NONSGML v1.0//EN
CALSCALE:GREGORIAN
METHOD:PUBLISH
X-ORIGINAL-URL:https://mayhewhoney.com
X-WR-CALDESC:Events for Mayhew Honey
REFRESH-INTERVAL;VALUE=DURATION:PT1H
X-Robots-Tag:noindex
X-PUBLISHED-TTL:PT1H
BEGIN:VTIMEZONE
TZID:America/Chicago
BEGIN:DAYLIGHT
TZOFFSETFROM:-0600
TZOFFSETTO:-0500
TZNAME:CDT
DTSTART:20250309T080000
END:DAYLIGHT
BEGIN:STANDARD
TZOFFSETFROM:-0500
TZOFFSETTO:-0600
TZNAME:CST
DTSTART:20251102T070000
END:STANDARD
BEGIN:DAYLIGHT
TZOFFSETFROM:-0600
TZOFFSETTO:-0500
TZNAME:CDT
DTSTART:20260308T080000
END:DAYLIGHT
BEGIN:STANDARD
TZOFFSETFROM:-0500
TZOFFSETTO:-0600
TZNAME:CST
DTSTART:20261101T070000
END:STANDARD
BEGIN:DAYLIGHT
TZOFFSETFROM:-0600
TZOFFSETTO:-0500
TZNAME:CDT
DTSTART:20270314T080000
END:DAYLIGHT
BEGIN:STANDARD
TZOFFSETFROM:-0500
TZOFFSETTO:-0600
TZNAME:CST
DTSTART:20271107T070000
END:STANDARD
END:VTIMEZONE
BEGIN:VEVENT
DTSTART;TZID=America/Chicago:20260627T080000
DTEND;TZID=America/Chicago:20260627T120000
DTSTAMP:20260423T101719
CREATED:20260325T145957Z
LAST-MODIFIED:20260325T150004Z
UID:5314-1782547200-1782561600@mayhewhoney.com
SUMMARY:Vine Street Market  6/27/26
DESCRIPTION:Come see us at vine street market in O’Fallon on Saturday 6/27/2026
URL:https://mayhewhoney.com/event/vine-street-market-6-27-26
LOCATION:O’Fallon Vine Street Market\, 2022 Vine Street\, O'Fallon\, IL\, 62269\, United States
CATEGORIES:Farmer's Markets,O'Fallon Vine Street Market
END:VEVENT
END:VCALENDAR