BEGIN:VCALENDAR
VERSION:2.0
PRODID:-//Mayhew Honey - ECPv6.15.20//NONSGML v1.0//EN
CALSCALE:GREGORIAN
METHOD:PUBLISH
X-WR-CALNAME:Mayhew Honey
X-ORIGINAL-URL:https://mayhewhoney.com
X-WR-CALDESC:Events for Mayhew Honey
REFRESH-INTERVAL;VALUE=DURATION:PT1H
X-Robots-Tag:noindex
X-PUBLISHED-TTL:PT1H
BEGIN:VTIMEZONE
TZID:America/Chicago
BEGIN:DAYLIGHT
TZOFFSETFROM:-0600
TZOFFSETTO:-0500
TZNAME:CDT
DTSTART:20240310T080000
END:DAYLIGHT
BEGIN:STANDARD
TZOFFSETFROM:-0500
TZOFFSETTO:-0600
TZNAME:CST
DTSTART:20241103T070000
END:STANDARD
BEGIN:DAYLIGHT
TZOFFSETFROM:-0600
TZOFFSETTO:-0500
TZNAME:CDT
DTSTART:20250309T080000
END:DAYLIGHT
BEGIN:STANDARD
TZOFFSETFROM:-0500
TZOFFSETTO:-0600
TZNAME:CST
DTSTART:20251102T070000
END:STANDARD
BEGIN:DAYLIGHT
TZOFFSETFROM:-0600
TZOFFSETTO:-0500
TZNAME:CDT
DTSTART:20260308T080000
END:DAYLIGHT
BEGIN:STANDARD
TZOFFSETFROM:-0500
TZOFFSETTO:-0600
TZNAME:CST
DTSTART:20261101T070000
END:STANDARD
END:VTIMEZONE
BEGIN:VEVENT
DTSTART;TZID=America/Chicago:20250819T160000
DTEND;TZID=America/Chicago:20250819T190000
DTSTAMP:20260423T235353
CREATED:20250515T135442Z
LAST-MODIFIED:20250515T135443Z
UID:832-1755619200-1755630000@mayhewhoney.com
SUMMARY:8/19/25 Highland Farmer's Market
DESCRIPTION:8/19/2025 Highland Farmer’s market at the downtown square in Highland\, IL 4p-7p
URL:https://mayhewhoney.com/event/8-19-25-highland-farmers-market
LOCATION:Downtown Square\, Highland\, IL\, United States
CATEGORIES:Farmer's Markets,Highland Farmer's Market
END:VEVENT
END:VCALENDAR